BEGIN:VCALENDAR
VERSION:2.0
BEGIN:VEVENT
SUMMARY:DINO & KARSHANAL WEDDING
DTSTART:20260618T043000Z
DTEND:20260618T063000Z
DESCRIPTION:St. Ignatius Catholic Church, Kurumpanai - https://maps.app.goo.gl/gjN3VQkjpjd1Mmge8
LOCATION:St. Ignatius Catholic Church, Kurumpanai
END:VEVENT
END:VCALENDAR
